{"text_format":"1","workbook":"xlsx","n_sheets":2,"sheets":["SAQ 4.0","Scoring"],"not_rendered":{"charts":0,"images":11,"macros":1,"external_links":0,"defined_names":2,"comments":2,"pivot_tables":0},"unopened":[],"bounds":{"document_bytes":16777216,"sheet_cells":100000,"rows_first":2000,"rows_last":500,"rows_between":2000,"halvings":0,"cell_chars":16384,"cell_head_chars":4096},"cells_cut":0,"cells_raw":0,"read":"whole","date_system":"1900"}

{"sheet":"SAQ 4.0","index":0,"n_rows":341,"n_cols":21,"rows_kept":341,"cut":false,"hidden":false,"merged":[[331,20,333,20],[340,10,340,20],[241,20,253,20],[245,11,245,16],[329,20,330,20],[20,11,20,20],[21,11,21,20],[21,10,30,10],[22,11,22,20],[336,10,336,20],[337,10,337,20],[23,11,23,20],[30,11,30,20],[296,20,301,20],[289,11,289,19],[56,20,65,20],[113,20,130,20],[209,20,222,20],[335,10,335,20],[29,12,29,13],[338,10,338,20],[57,12,57,15],[58,12,58,15],[59,12,59,15],[64,12,64,15],[340,0,340,9],[245,0,245,5],[277,1,277,5],[280,1,280,5],[281,1,281,2],[284,5,284,6],[289,0,289,8],[328,0,328,3],[298,0,298,4],[297,0,297,4],[307,2,307,3],[336,0,336,9],[337,0,337,9],[338,0,338,9],[339,0,339,9],[301,0,301,4],[339,10,339,20],[335,0,335,9],[191,20,208,20],[234,20,240,20],[146,20,166,20],[174,20,190,20],[167,20,172,20],[255,20,294,20],[284,16,284,17],[320,20,327,20],[223,20,233,20],[180,1,180,2],[181,1,181,2],[179,1,179,3],[165,12,165,15],[163,12,163,15],[189,12,189,15],[187,12,187,15],[179,12,179,15],[192,12,192,16],[193,13,193,17],[197,12,197,16],[203,12,203,16],[202,12,202,16],[221,12,221,16],[220,12,220,16],[246,11,246,13],[247,11,247,13],[248,11,248,13],[249,11,249,13],[298,12,298,15],[328,10,328,14],[180,12,180,15],[181,12,181,15],[183,12,183,15],[184,12,184,15],[0,0,0,1],[2,0,2,1],[9,0,9,9],[18,0,18,9],[21,0,21,9],[48,0,48,4],[23,0,23,9],[20,0,20,9],[10,0,10,9],[31,0,31,9],[34,0,34,9],[3,0,3,9],[19,0,19,9],[41,0,41,3],[36,0,36,4],[1,10,1,20],[2,10,2,20],[31,10,34,10],[10,11,10,20],[3,10,3,20],[12,12,12,14],[13,12,13,14],[15,12,15,14],[16,12,16,14],[17,11,17,14],[32,0,32,9],[8,11,8,19],[18,11,18,20],[19,11,19,20],[4,10,6,20],[9,11,9,19],[11,11,11,20],[8,10,20,10],[31,11,31,20],[32,11,32,20],[7,10,7,20],[87,0,87,2],[30,0,30,9],[35,0,35,9],[75,20,79,20],[35,10,35,19],[81,20,97,20],[94,12,94,15],[96,12,96,15],[80,10,80,19],[76,12,76,18],[77,12,77,18],[78,12,78,18],[71,12,71,17],[36,10,36,17],[37,12,37,13],[38,12,38,13],[48,10,48,17],[42,10,42,17],[43,12,43,13],[44,12,44,13],[86,0,86,4],[34,11,34,20],[33,0,33,9],[33,11,33,20],[129,12,129,15],[98,20,111,20],[109,12,109,16],[110,12,110,16],[132,12,132,16],[131,20,144,20],[36,20,55,20],[22,0,22,9],[42,0,42,4],[49,12,49,13],[50,12,50,13],[91,12,91,18],[86,12,86,18],[87,12,87,18],[88,12,88,18],[89,13,89,18],[90,12,90,18],[112,0,112,19],[99,12,99,17],[104,12,104,17],[119,12,119,13],[124,12,124,13],[127,12,127,15],[73,12,73,17],[133,13,133,16],[142,12,142,16],[143,12,143,16],[158,12,158,14],[157,12,157,14],[156,12,156,14],[155,12,155,14],[154,12,154,14],[152,12,152,14],[151,12,151,14],[306,11,306,12],[250,11,250,13],[251,11,251,13],[281,12,281,15],[283,12,283,15],[284,12,284,15],[287,12,287,15],[276,12,276,15],[275,12,275,15],[274,12,274,15],[272,12,272,15],[273,12,273,15],[271,12,271,15],[269,12,269,15],[268,12,268,15],[266,12,266,15],[265,12,265,15],[263,12,263,15],[262,12,262,15],[261,12,261,15],[260,12,260,15],[280,12,280,15],[279,12,279,15],[331,10,333,18],[331,19,333,19],[303,20,319,20],[314,15,314,16],[66,20,74,20],[307,11,307,12],[309,11,309,12],[311,11,311,12],[312,11,312,12],[313,11,313,12],[305,15,305,16],[306,15,306,16],[309,15,309,16],[310,15,310,16],[311,15,311,16],[312,15,312,16],[313,15,313,16],[290,12,290,15],[291,12,291,15],[292,12,292,15],[293,12,293,15],[294,12,294,15],[300,12,300,15],[299,12,299,15]]}
[null,null,"= Changes and additions"]
[null,"Text in blue","= comments for discussion ",null,null,null,null,null,null,null," SAQ 4.0 "]
[null,null,"= Deleted from 3.0 version"]
[null,null,null,null,null,null,null,null,null,null,"Questionário de autoavaliação sobre RSC/sustentabilidade para fornecedores do setor automotivo"]
[null,null,null,null,null,null,null,null,null,null,"A responsabilidade social corporativa (RSC)/sustentabilidade é um processo para as empresas integrarem tópico ambientais, sociais e de governança (ESG) na estratégia corporativa, operações e cadeia de suprimento.\n\nA Drive Sustainability tem um conjunto de diretrizes comuns — os Princípios Orientadores — que descrevem as expectativas para os fornecedores quanto a questões-chave de Sustentabilidade/RSC, incluindo direitos humanos, condições de trabalho, saúde e segurança, meio ambiente e ética empresarial.\n\nDe acordo com os princípios orientadores, este questionário de autoavaliação (SAQ) foi desenvolvido para indicar e verificar a conformidade do fornecedor com RSC/sustentabilidade. Ele foi desenvolvido em 2014 e revisado em 2019* pelos membros da Drive Sustainability — The Automotive Partnership. Atualmente, ele está sendo colocado em uso por onze dos membros** e tem como objetivo evitar duplicação e melhorar a eficiência. \n\nO questionário aborda questões relacionadas à Empresa e à Unidade:— Unidade refere-se a local industrial onde ocorre a produção;— Sede refere-se ao centro administrativo local de um empreendimento;— Matriz refere-se ao grupo/holding do qual o fornecedor faz parte;\n\nOs fornecedores que estiverem respondendo a este questionário podem clicar no ponto de interrogação ao lado de cada pergunta para esclarecimentos. \n\n*Membros do Grupo de Trabalho de 2019: BMW Group, Daimler AG, Ford, Honda, Jaguar Land Rover, Scania CV AB, Toyota Motor Europe, Volkswagen Group, Volvo Cars e Volvo Group **OEMs que usam o SAQ: BMW Group, Daimler AG, Ford, Fiat Chrysler Automobiles, Honda, Jaguar Land Rover, Scania CV AB, Toyota Motor Europe, Volkswagen Group, Volvo Cars e Volvo  Group\n\n"]
[]
[]
[null,null,null,null,null,null,null,null,null,null,"Instruções para preencher o SAQA maioria das questões tem apenas uma resposta. Selecione apenas uma resposta (a menos que indicado de outra forma) para evitar erros no cálculo da pontuação. A pontuação do SAQ está no final da página, na conclusão do questionário."]
[null,null,null,null,null,null,null,null,null,null,"UNIDADE ","Nome:",null,null,null,null,null,null,null,null,"INFORMAÇÕES GERAIS"]
["Name :",null,null,null,null,null,null,null,null,null,null,"Endereço da unidade (país, cidade e/ou rua):",null,null,null,null,null,null,null,null,"Insira o local da unidade como solicitado peno DUNS nº  "]
["Number of employees:",null,null,null,null,null,null,null,null,null,null,"Número de funcionários trabalhando na unidade (incluindo contratados):"]
[null,null,null,null,null,null,null,null,null,null,null,"de acordo com a definição oficial da OECD"]
[null,null,null,null,null,null,null,null,null,null,null,false,"0–9 (microempresa)"]
[null,null,null,null,null,null,null,null,null,null,null,false,"10–49 (pequena empresa)"]
[null,null,null,null,null,null,null,null,null,null,null,false,"50–249 (média empresa)"]
[null,null,null,null,null,null,null,null,null,null,null,false,"250–499 (grande empresa)"]
[null,null,null,null,null,null,null,null,null,null,null,false,"≥ 500"]
[null,null,null,null,null,null,null,null,null,null,null,"Sede: ",null,null,null,false,false]
["Total yearly turnover:",null,null,null,null,null,null,null,null,null,null,"ID do Fornecedor: (preencha os que se aplicam)"]
["Name:",null,null,null,null,null,null,null,null,null,null,"Número DUNS"]
["Location of site (country, city and/or address):",null,null,null,null,null,null,null,null,null,null,"Outro (especifique):"]
["Number of employees working on site (incl. agency workers):",null,null,null,null,null,null,null,null,null,"EMPRESA CONTROLADORA","Nome:"]
["Headquarter: yes/no",null,null,null,null,null,null,null,null,null,null,"Endereço da empresa controladora (país, cidade e/ou rua):"]
["Supplier ID: (fill in those that apply)",null,null,null,null,null,null,null,null,null,null,"Número de funcionários: "]
[null,null,null,null,null,null,null,null,null,null,null,"de acordo com a definição oficial da OECD"]
[null,null,null,null,null,null,null,null,null,null,null,false,"0–9 (microempresa)"]
[null,null,null,null,null,null,null,null,null,null,null,false,"10–49 (pequena empresa)"]
[null,null,null,null,null,null,null,null,null,null,null,false,"50–249 (média empresa)"]
[null,null,null,null,null,null,null,null,null,null,null,false,"250–499 (grande empresa)"]
[null,null,null,null,null,null,null,null,null,null,null,false,"≥ 500"]
["DUNS number",null,null,null,null,null,null,null,null,null,null,"Setor de atuação: "]
["Name :",null,null,null,null,null,null,null,null,null,"Preenchido por:","Nome:"]
["Position:",null,null,null,null,null,null,null,null,null,null,"Cargo:"]
["E-mail:",null,null,null,null,null,null,null,null,null,null,"E-mail:"]
["Tel:",null,null,null,null,null,null,null,null,null,null,"Tel.:"]
[null,null,null,null,null,null,null,null,null,null,"A. ADMINISTRAÇÃO DA EMPRESA (GERAL)",null,null,null,null,null,null,null,null,null,"INFORMAÇÕES GERAIS"]
[null,null,null,null,null,null,null,null,null,null,"1a. A sua empresa tem um gestor responsável por sustentabilidade social?*"]
["No",null,null,null,null,null,null,null,null,null,null,true,"Sim",null,null,null,null,null,null,false]
["Yes*, at company level",null,null,null,null,null,null,null,null,null,null,false,"Não",null,null,null,null,null,null,false]
[null,"If yes, please provide:",null,"Name :","____________________________________",null,null,null,null,null,null,false,"Em caso afirmativo, informe:",null,"Nome:"]
[null,null,null,"e-mail :","____________________________________",null,null,null,null,null,null,null,null,null,"E-mail:","____________________________________"]
[null,null,null,null,null,null,null,null,null,null,null,null,null,null,"Cargo","____________________________________"]
[null,null,null,null,null,null,null,null,null,null,"1b.  A sua empresa tem um gestor responsável por compliance?*"]
["No",null,null,null,null,null,null,null,null,null,null,false,"Sim",null,null,null,null,null,null,false]
["Yes*, at company level",null,null,null,null,null,null,null,null,null,null,false,"Não",null,null,null,null,null,null,false]
[null,"If yes, please provide:",null,"Name :","____________________________________",null,null,null,null,null,null,null,"Em caso afirmativo, informe:",null,"Nome:","____________________________________"]
[null,null,null,"e-mail :","____________________________________",null,null,null,null,null,null,null,null,null,"E-mail:","____________________________________"]
[null,null,null,null,null,null,null,null,null,null,null,null,null,null,"Cargo","____________________________________"]
[null,null,null,null,null,null,null,null,null,null,"1c. A sua empresa tem um gestor responsável por sustentabilidade ambiental?*"]
["No",null,null,null,null,null,null,null,null,null,null,false,"Sim",null,null,null,null,null,null,false]
["Yes*, at company level",null,null,null,null,null,null,null,null,null,null,false,"Não",null,null,null,null,null,null,false]
[null,"If yes, please provide:",null,"Name :","____________________________________",null,null,null,null,null,null,null,"Em caso afirmativo, informe:",null,"Nome:","____________________________________"]
[null,null,null,"e-mail :","____________________________________",null,null,null,null,null,null,null,null,null,"E-mail:","____________________________________"]
[null,null,null,null,null,null,null,null,null,null,null,null,null,null,"Cargo","____________________________________"]
["* Please fill out the contact details, even if the person is the same as above.",null,null,null,null,null,null,null,null,null,null,"*Preencha as informações de contato, mesmo que a pessoa seja a mesma listada acima."]
[]
[null,null,null,null,null,null,null,null,null,null,"2. Sua empresa publica um relatório de responsabilidade social corporativa (RSC)/sustentabilidade?"]
["No",null,null,null,null,null,null,null,null,null,null,true,"Sim, de acordo com as normas da GRI ou outras normas globalmente aceitas",null,null,null,"Forneça o nome da norma globalmente aceita ",null,"______________________________",false]
["Yes, according to other globally accepted standards",null,null,null,"Please provide the name of the globally accepted standard ___",null,null,null,null,"Please upload report",null,false,"Sim, mas não de acordo com as normas globalmente aceitas ",null,null,null,null,null,null,false]
[null,null,null,null,null,null,null,null,null,null,null,false,"Não",null,null,null,null,null,null,false]
[]
["2a. Is your most recent report assured by a third party?",null,null,null,null,null,null,null,null,null,null,"2a. Se a resposta da P2 foi “Sim”, o relatório mais recente é garantido por terceiros?"]
[null,"No",null,null,null,null,null,null,null,null,null,false,"Sim, a carta de garantia está incluída no relatório",null,null,null,null,null,null,false]
[null,"Yes","If yes, please provide the name of the third party and the assurance letter:________________",null,null,null,null,null,null,null,null,false,"Sim, mas a carta de garantia não está incluída no relatório",null,null,null,null,null,null,false]
[null,null,null,null,null,null,null,null,null,null,null,false,"Não",null,null,null,null,null,null,false]
[]
[null,null,null,null,null,null,null,null,null,null,"3. Sua empresa tem um código de conduta?",null,null,null,null,null,null,null,null,null,"Um Código de Conduta é um conjunto de regras descrevendo as responsabilidades ou prática adequada para um indivíduo (funcionário) e organização. Ele pode abranger aspectos sociais, éticos e ambientais "]
["No",null,null,null,null,null,null,null,null,null,null,false,"Sim",null,null,null,null,null,null,false]
["Yes","Please upload relevant document",null,null,null,null,null,null,null,null,null,false,"Não",null,null,null,null,null,null,false]
[]
["3a. Is the Code of Conduct in place for this site?",null,null,null,null,null,null,null,null,null,null,"3a. Se a resposta da P3 foi “Sim”, você organiza treinamento para seus funcionários sobre o Código de Conduta?"]
[null,"No",null,null,null,null,null,null,null,null,null,false,"Sim",null,null,null,null,null,null,false]
[null,"Yes",null,null,null,null,null,null,null,null,null,false,"Não, mas divulgamos o código de conduta por meio da extranet/folhetos, etc.",null,null,null,null,null,null,false]
[null,null,null,null,null,null,null,null,null,null,null,false,"Não",null,null,null,null,null,null,false]
[]
[null,null,null,null,null,null,null,null,null,null,"4. Sua empresa fornece um mecanismo de queixas e reparação por meio do qual os interessadas e os titulares de direitos podem apresentar queixas para que a empresa as resolva? ",null,null,null,null,null,null,null,null,null,"De acordo com o Quadro Proteger, Respeitar e Reparar da ONU, as empresas são responsáveis por respeitar os direitos humanos e é esperado que ofereçam reparação se suas operações causarem ou contribuírem para impactos adversos nos direitos humanos. Recomendam-se mecanismos de queixas e reparação em nível operacional para aquelas atividades das empresas possivelmente impactadas, como um processo eficaz, por meio do qual as empresas possam possibilitar uma remediação."]
[null,null,null,null,null,null,null,null,null,null,null,false,"Sim, temos um mecanismo de dissídio que está disponível para nossos funcionários, como também para partes interessadas externas (p. ex., fornecedores, comunidades) e toda a nossa cadeia de suprimentos",null,null,null,null,null,null,false]
[null,null,null,null,null,null,null,null,null,null,null,false,"Sim, temos um mecanismo interno de queixas e reparação que está disponível apenas para os funcionários de nossa empresa ",null,null,null,null,null,null,false]
["Yes (please specify)_________________________",null,null,null,null,null,null,null,null,null,null,false,"Não",null,null,null,null,null,null,false]
[]
[null,null,null,null,null,null,null,null,null,null,"B. CONDIÇÕES DE TRABALHO E DIREITOS HUMANOS",null,null,null,null,null,null,null,null,null,"INFORMAÇÕES GERAIS"]
[null,null,null,null,null,null,null,null,null,null,"5. Sua empresa tem uma política formal que abrange as condições de trabalho e direitos humanos?"]
["Child labour and Young Workers",null,null,null,null,null,null,null,null,null,null,false,"Sim",null,null,null,null,null,null,false]
["Wages and Benefits",null,null,null,null,null,null,null,null,null,null,null,"Não",null,null,null,null,null,null,false]
[]
["Working hours",null,null,null,null,null,null,null,null,null,"5a. Se a resposta da P5 foi Sim, quais das áreas a seguir são abrangidas por essa política? (marque todas as que se aplicam)"]
["Forced or compulsory labour and human trafficking",null,null,null,null,null,null,null,null,null,null,false,"Trabalho infantil e jovens trabalhadores",null,null,null,null,null,null,false]
["Freedom of association and collective bargaining",null,null,null,null,null,null,null,null,null,null,false,"Salários e benefícios",null,null,null,null,null,null,false]
["Health and Safety",null,null,null,null,null,null,null,null,null,null,false,"Jornada de trabalho",null,null,null,null,null,null,false]
["Harassment ",null,null,null,null,null,null,null,null,null,null,false,"Escravidão moderna (ou seja, escravidão, servidão e trabalho forçado ou compulsório e tráfico de pessoas)",null,null,null,null,null,null,false]
["Non-discrimination",null,null,null,null,null,null,null,null,null,null,false,"Liberdade de associação e negociação coletiva",null,null,null,null,null,null,false]
[null,null,null,null,null,null,null,null,null,null,null,false,"Assédio e não discriminação",null,null,null,null,null,null,false]
[]
[null,null,null,null,null,null,null,null,null,null,"5b. Se a resposta da P5 foi Sim, você organiza treinamento para seus funcionários em relação a essa política?"]
[null,"Others (please specify):",null,null,null,null,null,"Please upload relevant document",null,null,null,false,"Sim",null,null,null,null,null,null,false]
[null,null,null,null,null,null,null,null,null,null,null,false,"Não, mas o divulgamos por meio da Intranet/brochuras, etc.",null,null,null,null,null,null,false]
[null,null,null,null,null,null,null,null,null,null,null,false,"Não",null,null,null,null,null,null,false]
[]
[null,null,null,null,null,null,null,null,null,null,"6. Sua unidade conta com um sistema de gestão em vigor para tratar das condições de trabalho e questões de direitos humanos?",null,null,null,null,null,null,null,null,null,"Um sistema de gestão é um conjunto de controles, processos e/ou procedimentos documentados, revisados pela gerência. Ele pode ser interno ou desenvolvido de acordo com uma norma (Certified Management System).\n\nUm procedimento documentado é uma descrição por escrito do curso de ação ou processo prescrito para gerenciar e controlar as atividades das organizações.\n\nOs exemplos de normas globalmente aceitas relevantes incluem:— ISO26000 Diretrizes sobre Responsabilidade Social— SA8000 Sistema de Gestão Social \n\nFornecedores com um certificado válido indisponível para envio devido a atrasos no processo administrativo podem especificar isso na seção G. “Informações adicionais”, complementada com uma declaração do órgão adjudicante."]
["Yes, we have documented procedures and policies",null,null,null,null,null,null,"Please upload relevant document",null,null,null,false,"Sim, temos um sistema de gestão certificado e reconhecido internacionalmente",null,null,null,null,null,null,false]
[null,null,null,null,null,null,null,null,null,null,null,null,null,"Forneça as seguintes informações: "]
[null,null,null,null,null,null,null,null,null,null,null,null,null,"Órgão certificador","______________________________"]
[null,null,null,null,null,null,null,null,null,null,null,null,null,"Número do certificado ","______________________________"]
[null,null,null,null,null,null,null,null,null,null,null,null,null,"Válido até","______________________________"]
[null,null,null,null,null,null,null,null,null,null,null,false,"Sim, temos um sistema de gestão certificado e reconhecido nacionalmente",null,null,null,null,null,null,false]
[null,null,null,null,null,null,null,null,null,null,null,null,null,"Forneça as seguintes informações:"]
[null,"Social assessments",null,null,null,null,null,null,"Please upload relevant document",null,null,null,null,"Órgão certificador","______________________________"]
[null,"External 3rd party audits (please provide the following):",null,null,null,null,null,null,"Please upload relevant document",null,null,null,null,"Número do certificado","______________________________"]
[null,"Awarding body",null,"______________________________",null,null,null,null,null,null,null,null,null,"Válido até","______________________________"]
[null,"Valid until",null,"______________________________",null,null,null,null,null,null,null,false,"Sim, mas o sistema não é certificado",null,null,null,null,null,null,false]
[null,null,null,null,null,null,null,null,null,null,null,false,"Não",null,null,null,null,null,null,false]
[]
["C. SAÚDE E SEGURANÇA",null,null,null,null,null,null,null,null,null,null,null,null,null,null,null,null,null,null,null,"INFORMAÇÕES GERAIS"]
[null,null,null,null,null,null,null,null,null,null,"7. Sua empresa tem uma política de saúde e segurança por escrito formal que esteja em conformidade com a legislação local, os requisitos da indústria e as normas internacionais?",null,null,null,null,null,null,null,null,null,""]
["No",null,null,null,null,null,null,null,null,null,null,false,"Sim",null,null,null,null,null,null,false]
["Yes",null,null,null,null,null,null,"Please upload relevant document",null,null,null,false,"Não",null,null,null,null,null,null,false]
[]
[null,null,null,null,null,null,null,null,null,null,null,"7a. Se a resposta da P7 foi “Sim”, quais das áreas a seguir são abrangidas por essa política? (marque todas as que se aplicam)"]
[null,null,null,null,null,null,null,null,null,null,null,false,"Equipamento de proteção individual",null,null,null,null,null,null,false]
[null,null,null,null,null,null,null,null,null,null,null,false,"Segurança de máquinas",null,null,null,null,null,null,false]
[null,null,null,null,null,null,null,null,null,null,null,null,"Preparação para emergências",null,null,null,null,null,null,false]
[null,null,null,null,null,null,null,null,null,null,null,null,"Gestão de incidentes e acidentes",null,null,null,null,null,null,false]
[null,null,null,null,null,null,null,null,null,null,null,null,"Ergonomia no local de trabalho",null,null,null,null,null,null,false]
[null,null,null,null,null,null,null,null,null,null,null,null,"Manuseio de produtos químicos",null,null,null,null,null,null,false]
[null,null,null,null,null,null,null,null,null,null,null,false,"Proteção contra incêndio",null,null,null,null,null,null,false]
[]
[null,null,null,null,null,null,null,null,null,null,null,"7b. Se a resposta da P7 foi Sim, você organiza treinamento para seus funcionários em relação a essa política?"]
[null,null,null,null,null,null,null,null,null,null,null,false,"Sim",null,null,null,null,null,null,false]
[null,null,null,null,null,null,null,null,null,null,null,false,"Não, mas o divulgamos por meio da Intranet/brochuras, etc.",null,null,null,null,null,null,false]
[null,null,null,null,null,null,null,null,null,null,null,false,"Não",null,null,null,null,null,null,false]
[]
[null,null,null,null,null,null,null,null,null,null,"8. Sua unidade conta com um sistema de gestão de saúde e segurança em vigor?"]
[null,null,null,null,null,null,null,null,null,null,null,false,"Sim, temos um sistema de gestão certificado e reconhecido internacionalmente",null,null,null,null,null,null,false]
[null,null,null,null,null,null,null,null,null,null,null,null,null,"Forneça as seguintes informações: "]
["Yes we have a globally accepted certified health and safety management system",null,null,null,null,null,null,"Please upload relevant document",null,null,null,null,null,"Órgão certificador","______________________________"]
[null,null,null,null,null,null,null,null,null,null,null,null,null,"Número do certificado","______________________________"]
["10a. If you answered \"Yes we have a globally accepted certified health and safety management system\", please indicate how you achieved certification:",null,null,null,null,null,null,null,null,null,null,null,null,"Válido até","______________________________"]
[null,null,null,null,null,null,null,null,null,null,null,false,"Sim, temos um sistema de gestão certificado e reconhecido nacionalmente",null,null,null,null,null,null,false]
[null,null,null,null,null,null,null,null,null,null,null,null,null,"Forneça as seguintes informações: "]
[null,null,null,null,null,null,null,null,null,null,null,null,null,"Órgão certificador","______________________________"]
[null,null,null,null,null,null,null,null,null,null,null,null,null,"Número do certificado","______________________________"]
[null,null,null,null,null,null,null,null,null,null,null,null,null,"Válido até","______________________________"]
[null,null,null,null,null,null,null,null,null,null,null,null,"Sim, mas o sistema não é certificado",null,null,null,null,null,null,false]
[null,null,null,null,null,null,null,null,null,null,null,null,"Não",null,null,null,null,null,null,false]
[]
[null,null,null,null,null,null,null,null,null,null,"D. ÉTICA EMPRESARIAL",null,null,null,null,null,null,null,null,null,"INFORMAÇÕES GERAIS"]
[null,null,null,null,null,null,null,null,null,null,"9. Sua empresa tem uma política formal que engloba ética empresarial?"]
["No",null,null,null,null,null,null,null,null,null,null,false,"Sim",null,null,null,null,null,null,false]
["Yes","please upload relevant document",null,null,null,null,null,null,null,null,null,false,"Não",null,null,null,null,null,null,false]
[]
["11a. If answered yes to Q11, Are the following areas covered by this policy?",null,null,null,null,null,null,null,null,null,null,"9a. Se a resposta da P9 foi Sim, quais das áreas a seguir são abrangidas por essa política? (marque todas as que se aplicam)"]
[null,"Corruption, extortion and bribery",null,null,null,null,null,null,null,null,null,false,"Corrupção, extorsão e suborno",null,null,null,null,null,null,false]
[null,"Privacy",null,null,null,null,null,null,null,null,null,null,"Privacidade",null,null,null,null,null,null,false]
[null,"Financial responsibility (Accurate Records)",null,null,null,null,null,null,null,null,null,null,"Responsabilidade financeira (registros precisos)",null,null,null,null,null,null,false]
[null,"Disclosure of Information",null,null,null,null,null,null,null,null,null,null,"Divulgação de informações",null,null,null,null,null,null,false]
[null,"Fair competition and anti-trust",null,null,null,null,null,null,null,null,null,false,"Concorrência justa e antitruste",null,null,null,null,null,null,false]
[null,"Conflicts of interest",null,null,null,null,null,null,null,null,null,false,"Conflitos de interesse",null,null,null,null,null,null,false]
[null,"Counterfeit parts",null,null,null,null,null,null,null,null,null,false,"Peças falsificadas",null,null,null,null,null,null,false]
[null,"Intellectual property",null,null,null,null,null,null,null,null,null,null,"Propriedade intelectual",null,null,null,null,null,null,false]
[null,"Export controls and economic sanctions",null,null,null,null,null,null,null,null,null,null,"Controles de exportação e sanções econômicas",null,null,null,null,null,null,false]
[null,"Protection of Identity and Non-Retaliation",null,null,null,null,null,null,null,null,null,null,"Denúncia de atos ilícitos e proteção contra retaliação",null,null,null,null,null,null,false]
[]
["11b. If answered yes to Q11, Does your company use any of the following channels to communicate its Policy to employees?",null,null,null,null,null,null,null,null,null,null,"9b. Se a resposta da P11 foi Sim, você organiza treinamento para seus funcionários em relação a essa política?"]
[null,"Intranet / Meetings / Brochures, etc.",null,null,null,null,null,"Please upload relevant document",null,null,null,false,"Sim",null,null,null,null,null,null,false]
[null,"Training",null,null,null,null,null,"Please upload relevant document",null,null,null,null,"Não, mas o divulgamos por meio da Intranet/brochuras, etc.",null,null,null,null,null,null,false]
[null,"Others (please specify):",null,null,null,null,null,"Please upload relevant document",null,null,null,null,"Não",null,null,null,null,null,null,false]
[]
["No"]
["Yes ","Please upload relevant document"]
[]
[]
[]
[]
[null,null,null,null,null,null,null,null,null,null,"E. MEIO AMBIENTE",null,null,null,null,null,null,null,null,null,"INFORMAÇÕES GERAIS"]
[null,null,null,null,null,null,null,null,null,null,"10. Sua empresa tem uma política ambiental formal, que inclui um compromisso com a conformidade legal, medição contínua e melhorias contínuas no desempenho ambiental?",null,null,null,null,null,null,null,null,null,"Uma política ambiental mostra a orientação e intenções gerais da empresa relacionadas ao seu desempenho ambiental. Ela reflete o compromisso da empresa e é formalmente expressa pela alta gerência.Oferece uma estrutura para a ação, estabelecendo objetivos ambientais que levam em conta os requisitos legais aplicáveis, entre outros, e o impacto ambiental de suas operações, produtos e serviços, com o objetivo de diminuir o impacto ambiental, economizando recursos e custos.A lista de tópicos apresentada refere-se aos Princípios Orientadores de Sustentabilidade Automotiva Global (hiperlink) e é explicada no documento orientador relacionado.A pergunta é relevante para todos os fornecedores: diretos (produção, fornecedores de pós-venda, etc.) e indiretos (não-produção, prestadores de serviço, contratados, etc.)."]
["No",null,null,null,null,null,null,null,null,null,null,null,"Sim",null,null,null,null,null,null,false]
["Yes","please upload relevant document",null,null,null,null,null,null,null,null,null,null,"Não",null,null,null,null,null,null,false]
[]
["13a. Are the following areas covered by this policy or the related processes and working procedures?",null,null,null,null,null,null,null,null,null,null,"10a. Se a resposta da P10 foi Sim, quais das áreas a seguir são abrangidas por essa política? (marque todas as que se aplicam)"]
[null,"Energy consumption and greenhouse emissions",null,null,null,null,null,null,null,null,null,false,"Emissões de GHG, eficiência energética e energias renováveis",null,null,null,null,null,null,false]
[null,"Water quality and consumption",null,null,null,null,null,null,null,null,null,false,"Qualidade e consumo de água",null,null,null,null,null,null,false]
[null,"Air quality",null,null,null,null,null,null,null,null,null,false,"Qualidade do ar",null,null,null,null,null,null,false]
[null,"Natural Resources Management and Waste Reduction",null,null,null,null,null,null,null,null,null,false,"Gestão sustentável de recursos naturais e redução de resíduos",null,null,null,null,null,null,false]
[null,"Responsible Chemical Management",null,null,null,null,null,null,null,null,null,null,"Gestão química responsável",null,null,null,null,null,null,false]
[null,"Other areas (please specify)",null,null,null,"________________________________",null,null,null,null,null,false,"Outras áreas (especifique)",null,null,null,"_________________________________",null,null,false]
[]
["13b. Does your company have annual objectives and activities accordingly in the areas covered by your environmental policy?",null,null,null,null,null,null,null,null,null,null,"10b. Se a resposta da P13 foi Sim, você organiza treinamento para seus funcionários em relação a essa política?"]
[null,"No",null,null,null,null,null,null,null,null,null,false,"Sim",null,null,null,null,null,null,false]
[null,"Yes (please, upload relevant document explaining the objectives and the activties\n  to achieve them)",null,null,null,null,null,null,null,null,null,false,"Não, mas o divulgamos por meio da Intranet/brochuras, etc.",null,null,null,null,null,null,false]
[null,null,null,null,null,null,null,null,null,null,null,false,"Não",null,null,null,null,null,null,false]
["13c. If answered yes to Q13, Does your company use any of the following channels to communicate its Policy to employees?"]
[null,null,null,null,null,null,null,null,null,null,"11. Sua unidade tem um sistema de gestão ambiental em vigor?",null,null,null,null,null,null,null,null,null,""]
[null,null,null,null,null,null,null,null,null,null,null,false,"Sim, temos um sistema de gestão certificado e reconhecido internacionalmente",null,null,null,null,null,null,false]
[null,null,null,null,null,null,null,null,null,null,null,null,null,"Forneça as seguintes informações:"]
["Yes, according to ISO 14001:2015 or  EU Eco-Management and Audit Scheme (EMAS)",null,null,null,null,null,null,"Please upload relevant document",null,null,null,null,null,"Órgão certificador","______________________________"]
["Yes, according to other globally accepted standards",null,null,null,null,null,null,"Please provide the name of the globally accepted standard ____","Please upload relevant document","Please upload relevant document",null,null,null,"Número do certificado","______________________________"]
[null,null,null,null,null,null,null,null,null,null,null,null,null,"Válido até","______________________________"]
[null,null,null,null,null,null,null,null,null,null,null,false,"Sim, temos um sistema de gestão certificado e reconhecido nacionalmente",null,null,null,null,null,null,false]
[null,null,null,null,null,null,null,null,null,null,null,null,null,"Forneça as seguintes informações:"]
[null,null,null,null,null,null,null,null,null,null,null,null,null,"Órgão certificador","______________________________"]
[null,null,null,null,null,null,null,null,null,null,null,null,null,"Número do certificado","______________________________"]
[null,null,null,null,null,null,null,null,null,null,null,null,null,"Válido até","______________________________"]
[null,null,null,null,null,null,null,null,null,null,null,false,"Sim, mas o sistema não é certificado",null,null,null,null,null,null,false]
[null,null,null,null,null,null,null,null,null,null,null,false,"Não",null,null,null,null,null,null,false]
[]
[null,null,null,null,null,null,null,null,null,null,null,"11a Sua unidade tem um programa ambiental que inclui monitoramento de metas, atividades e desempenho para melhorar continuamente seu desempenho ambiental?"]
[null,null,null,null,null,null,null,null,null,null,null,false,"Sim ",null,null,null,null,null,null,false]
[null,null,null,null,null,null,null,null,null,null,null,false,"Não",null,null,null,null,null,null,false]
[]
[null,null,null,null,null,null,null,null,null,null,"12. Sua unidade tem um sistema de gestão energética?",null,null,null,null,null,null,null,null,null,"Um sistema de gestão de energia é um processo sistemático para melhorar continuamente o desempenho energético e maximizar a economia de energia.\n\nOs exemplos de normas e certificação globalmente aceitas relevantes incluem:— ISO 50001 — Gestão da energia\n\nFornecedores com um certificado válido indisponível para envio devido a atrasos no processo administrativo podem especificar isso na seção G. “Informações adicionais”, complementada com uma declaração do órgão adjudicante."]
[null,null,null,null,null,null,null,null,null,null,null,false,"Sim, temos um sistema de gestão certificado e reconhecido internacionalmente",null,null,null,null,null,null,false]
[null,null,null,null,null,null,null,null,null,null,null,null,null,"Forneça as seguintes informações:"]
["Yes, according to ISO 50001",null,null,null,null,null,null,"Please upload relevant document",null,null,null,null,null,"Órgão certificador","______________________________"]
[null,null,null,null,null,null,null,null,null,null,null,null,null,"Número do certificado","______________________________"]
[null,null,null,null,null,null,null,null,null,null,null,null,null,"Válido até","______________________________"]
[null,null,null,null,null,null,null,null,null,null,null,false,"Sim, temos um sistema de gestão certificado e reconhecido nacionalmente",null,null,null,null,null,null,false]
[null,null,null,null,null,null,null,null,null,null,null,null,null,"Forneça as seguintes informações:"]
[null,null,null,null,null,null,null,null,null,null,null,null,null,"Órgão certificador","______________________________"]
[null,null,null,null,null,null,null,null,null,null,null,null,null,"Número do certificado","______________________________"]
[null,null,null,null,null,null,null,null,null,null,null,null,null,"Válido até","______________________________"]
[null,null,null,null,null,null,null,null,null,null,null,false,"Sim, mas o sistema não é certificado",null,null,null,null,null,null,false]
[null,null,null,null,null,null,null,null,null,null,null,false,"Não",null,null,null,null,null,null,false]
[]
[null,null,null,null,null,null,null,null,null,null,null,"12a Você sabe qual a porcentagem de energia proveniente de fontes renováveis usada em sua unidade no último ano fiscal?",null,null,null,null,null,null,null,null,"Fontes de energia renováveis são fontes de energia inesgotáveis reabastecidas naturalmente ao longo do tempo. As seguintes fontes de energia podem ser classificadas como renováveis:— Eólica— Solar— Hidroelétrica— Biomassa— Geotérmica— Marinha"]
[null,null,null,null,null,null,null,null,null,null,null,false,"Sim",null,null,null,null,null,null,false]
[null,null,null,null,null,null,null,null,null,null,null,false,"Não",null,null,null,null,null,null,false]
[]
[null,null,null,null,null,null,null,null,null,null,null,"12b Se a resposta da P12a foi Sim, indique a %:"]
[null,null,null,null,null,null,null,null,null,null,null,false,1,null,null,null,null,null,null,false]
[null,null,null,null,null,null,null,null,null,null,null,false,"75–99%",null,null,null,null,null,null,false]
[null,null,null,null,null,null,null,null,null,null,null,false,"50–74%",null,null,null,null,null,null,false]
[null,null,null,null,null,null,null,null,null,null,null,false,"25–49%",null,null,null,null,null,null,false]
[null,null,null,null,null,null,null,null,null,null,null,false,"Menos de 25%",null,null,null,null,null,null,false]
[]
[null,null,null,null,null,null,null,null,null,null,"13. Sua unidade usa quaisquer substâncias com restrições na produção ou operações?",null,null,null,null,null,null,null,null,null,""]
[null,null,null,null,null,null,null,null,null,null,null,false,"Sim",null,null,null,null,null,null,false]
[null,null,null,null,null,null,null,null,null,null,null,false,"Não",null,null,null,null,null,null,false]
["No"]
["Yes","Please upload relevant document",null,null,null,null,null,null,null,null,null,"13a. Se a resposta da P14 foi Sim, sua unidade conta com procedimentos por escrito para gerir substâncias com restrições?"]
[null,null,null,null,null,null,null,null,null,null,null,false,"Sim ",null,null,null,null,null,null,false]
[null,null,null,null,null,null,null,null,null,null,null,false,"Não",null,null,null,null,null,null,false]
[null,null,null,null,null,null,null,null,null,null,"14. Sua empresa tem uma pontuação CDP vigente?",null,null,null,null,null,null,null,null,null,"O CDP usa a metodologia de pontuação para incentivar as empresas a medir e gerenciar os impactos ambientais por meio da participação nos programas de mudanças climáticas, água, florestas e cadeia de suprimentos do CDP. Cada um dos questionários do CDP (mudanças climáticas, água e florestas) tem uma metodologia de pontuação individual. "]
["No",null,null,null,null,null,null,null,null,null,null,false,"Sim ",null,null,null,null,null,null,false]
["Yes",null,null,null,null,null,null,null,null,null,null,false,"Não",null,null,null,null,null,null,false]
[]
["OPTIONAL - 18a. If answered yes, specify the score:",null,null,null,null,null,null,null,null,null,null,"14a. Se a resposta da P14 foi Sim, especifique a pontuação:"]
["Climate Change ",null,null,null,null,null,null,null,null,null,null,"Mudanças climáticas "]
["Water ",null,null,null,null,null,null,null,null,null,null,"Água "]
["Forests - Cattle",null,null,null,null,null,null,null,null,null,null,"Florestas — Gado"]
["Forests - Timber",null,null,null,null,null,null,null,null,null,null,"Florestas — Madeira"]
["Forests - Soy",null,null,null,null,null,null,null,null,null,null,"Florestas — Soja"]
["Forests - Palm beneath Forests",null,null,null,null,null,null,null,null,null,null,"Florestas — Plameiras nas florestas"]
[]
[]
[null,null,null,null,null,null,null,null,null,null,"F. GESTÃO DE FORNECEDORES",null,null,null,null,null,null,null,null,null,"INFORMAÇÕES GERAIS"]
[null,null,null,null,null,null,null,null,null,null,"15. Sua empresa definiu requisitos de RSC/sustentabilidade para fornecedores?",null,null,null,null,null,null,null,null,null,"Exemplos de Política de RSC/sustentabilidade para fornecedores podem ser um código de conduta específico para o fornecedor ou um documento de conduta da empresa que se aplique tanto aos funcionários internos quanto aos parceiros de negócios externos, como fornecedores.\n\nO objetivo deve ser promover condições de trabalho saudáveis​e responsabilidade ambiental em toda a cadeia de suprimentos.Gestão de fornecedores a montante refere-se à aplicação de requisitos de sustentabilidade em toda a cadeia de suprimentos, ou seja, certificar-se de que os fornecedores também estabeleceram os requisitos para seus próprios fornecedores."]
["No",null,null,null,null,null,null,null,null,null,null,false,"Sim",null,null,null,null,null,null,false]
["Yes","please upload relevant document",null,null,null,null,null,null,null,null,null,false,"Não",null,null,null,null,null,null,false]
[]
["19a. Which areas are covered by this set of Requirements?",null,null,null,null,null,null,null,null,null,null,"15a. Se a resposta da P16 foi Sim, quais áreas são abrangidas por esse conjunto de requisitos? (marque todas as que se aplicam)"]
[null,null,null,null,null,null,null,null,null,null,null,false,"Condições de trabalho e direitos humanos"]
[null,"Child labour and Young Workers",null,null,null,null,null,null,null,null,null,false,"Trabalho infantil e jovens trabalhadores",null,null,null,null,null,null,false]
[null,"Wages and Benefits",null,null,null,null,null,null,null,null,null,false,"Salários e benefícios",null,null,null,null,null,null,false]
[null,"Working hours",null,null,null,null,null,null,null,null,null,null,"Jornada de trabalho",null,null,null,null,null,null,false]
[null,"Forced or compulsory labour and human trafficking",null,null,null,null,null,null,null,null,null,null,"Escravidão moderna (ou seja, escravidão, servidão e trabalho forçado ou compulsório e tráfico de pessoas)",null,null,null,null,null,null,false]
[null,"Freedom of association, incl. collective bargaining",null,null,null,null,null,null,null,null,null,null,"Liberdade de associação, incluindo negociação coletiva",null,null,null,null,null,null,false]
[null,null,null,null,null,null,null,null,null,null,null,null,"Assédio e não discriminação",null,null,null,null,null,null,false]
[]
[null,"Health and Safety",null,null,null,null,null,null,null,null,null,false,"Saúde e segurança"]
[null,"Harassment ",null,null,null,null,null,null,null,null,null,false,"Saúde e segurança",null,null,null,null,null,null,false]
[]
[null,null,null,null,null,null,null,null,null,null,null,false,"Ética empresarial"]
[null,"Corruption, extortion and bribery",null,null,null,null,null,null,null,null,null,false,"Corrupção, extorsão e suborno",null,null,null,null,null,null,false]
[null,"Privacy",null,null,null,null,null,null,null,null,null,false,"Proteção da privacidade e dos dados",null,null,null,null,null,null,false]
[null,"Fair competition and anti-trust",null,null,null,null,null,null,null,null,null,null,"Concorrência justa e antitruste",null,null,null,null,null,null,false]
[null,"Conflicts of interest",null,null,null,null,null,null,null,null,null,null,"Conflitos de interesse",null,null,null,null,null,null,false]
[null,"Protection of Identity and Non-Retaliation",null,null,null,null,null,null,null,null,null,null,"Denúncia de atos ilícitos e proteção contra retaliação",null,null,null,null,null,null,false]
[null,"Energy consumption and greenhouse emissions"]
[null,null,null,null,null,null,null,null,null,null,null,null,"Meio ambiente"]
[null,null,null,null,null,null,null,null,null,null,null,null,"Emissões de GHG, eficiência energética e energia renovável",null,null,null,null,null,null,false]
[null,"Water quality and consumption",null,null,null,null,null,null,null,null,null,null,"Qualidade e consumo de água",null,null,null,null,null,null,false]
[null,"Air quality",null,null,null,null,null,null,null,null,null,null,"Qualidade do ar",null,null,null,null,null,null,false]
[null,"Natural Resources Management and Waste Reduction",null,null,null,null,null,null,null,null,null,null,"Gestão sustentável de recursos naturais e redução de resíduos",null,null,null,null,null,null,false]
[null,"Responsible Chemical Management",null,null,null,null,null,null,null,null,null,null,"Gestão química responsável",null,null,null,null,null,null,false]
[null,"Other areas (please specify)",null,null,null,"________________________________",null,null,null,null,null,null,"Outras áreas (especifique)",null,null,null,"________________________________",null,null,false]
[]
[null,null,null,null,null,null,null,null,null,null,null,false,"Gestão de fornecedores a montante"]
[null,null,null,null,null,null,null,null,null,null,null,null,"Requisitos de sustentabilidade para os próprios fornecedores",null,null,null,null,null,null,false]
[]
["19c. Does your company use any of the following channels to communicate its Supplier CSR/Sustainability Requirements to your suppliers?",null,null,null,null,null,null,null,null,null,null,"15b. Se a resposta da P16 foi Sim, sua empresa utiliza algum dos seguintes canais para divulgar os requisitos de RSC/sustentabilidade aos fornecedores? (marque todas as que se aplicam)"]
[null,"Included in Terms and Conditions ",null,null,null,null,null,"please upload evidence",null,null,null,false,"Incluídos nos Termos e Condições",null,null,null,null,null,null,false]
[null,"Supplier Meetings / Brochures, etc. / Social Media ",null,null,null,null,null,"please upload evidence",null,null,null,false,"Treinamento do fornecedor",null,null,null,null,null,null,false]
[null,"Supplier Training",null,null,null,null,null,"please upload evidence",null,null,null,false,"Código de Conduta do Fornecedor/Política de Sustentabilidade do Fornecedor",null,null,null,null,null,null,false]
[null,"Others (please specify):",null,null,null,null,null,"please upload evidence",null,null,null,false,"Website da empresa/Portal do fornecedor",null,null,null,null,null,null,false]
[null,"None",null,null,null,null,null,null,null,null,null,false,"Nenhum",null,null,null,null,null,null,false]
[]
[null,null,null,null,null,null,null,null,null,null,null,"15c Quais processos estão em vigor na sua empresa para analisar se os fornecedores atendem aos seus requisitos? (marque todas as que se aplicam)",null,null,null,null,null,null,null,null,"Uma auditoria pelo cliente é uma auditoria externa realizada por clientes ou outros em seu nome. Também pode ser realizada por reguladores ou qualquer parte externa que tenha interesse formal na organização. \n\nUma auditoria terceirizada é uma auditoria externa realizada por organizações independentes, como um certificador (órgãos de certificação) ou reguladores. (Fonte: ISO 19011, Definições de Auditoria)"]
["Self-assessment questionnaire",null,null,null,null,null,null,null,null,null,null,false,"Auditorias terceirizadas conduzidas por um órgão de certificação acreditado",null,null,null,null,null,null,false]
["Audits conducted by the company",null,null,null,null,null,null,null,null,null,null,false,"Auditorias pelo cliente conduzidas por sua empresa",null,null,null,null,null,null,false]
["3rd party audits conducted by a certificated audit body",null,null,null,null,null,null,null,null,null,null,false,"Questionário de autoavaliação",null,null,null,null,null,null,false]
["None",null,null,null,null,null,null,null,null,null,null,false,"Nenhum",null,null,null,null,null,null,false]
["please upload relevant document"]
[null,null,null,null,null,null,null,null,null,null,"G. COMPRA RESPONSÁVEL DE MATÉRIAS-PRIMAS",null,null,null,null,null,null,null,null,null,"INFORMAÇÕES GERAIS"]
[null,null,null,null,null,null,null,null,null,null,"Esta pergunta não é relevante para prestadores de serviços",null,null,null,null,null,null,null,null,null,"Compra responsável de materiais:Espera-se que as empresas realizem uma due diligence para entender a origem das matérias-primas usadas em seus produtos.Espera-se que as empresas:— realizem uma due diligence para entender a origem das matérias-primas usadas em seus produtos.— não forneçam deliberadamente produtos que contenham matérias-primas que contribuam para abusos dos direitos humanos, suborno e violações éticas, ou que impactem negativamente o meio ambiente.— usem fundições e refinarias validadas e livres de conflitos para a compra de estanho, tungstênio, tântalo e ouro contidos nos produtos que produzem \n\nOrientação de quais matérias-primas estão contidas nos produtos pode ser encontrada no IMDS.\n\nPara mais informações sobre materiais prioritários, países produtores e questões ambientais, sociais e de governança associadas, consulte o Relatório de Mudança de Material (hiperlink)."]
[null,null,null,null,null,null,null,null,null,null,"16. Seus produtos contêm algum dos seguintes materiais? (Marque todas as que se aplicam)"]
[null,null,null,null,null,null,null,null,null,null,false,"Alumínio/ Bauxita",null,null,false,"Níquel"]
["No",null,null,null,null,null,null,null,null,null,false,"Cobalto",null,null,false,"Paládio"]
["Yes",null,"please upload evidence",null,null,null,null,null,null,null,null,"Cobre",null,null,false,"Metais de Terras Raras"]
[null,null,null,null,null,null,null,null,null,null,null,"Vidro (areia de sílica)",null,null,false,"Borracha (natural)"]
[null,null,null,null,null,null,null,null,null,null,false,"Ouro",null,null,null,"Aço/Ferro"]
[null,null,null,null,null,null,null,null,null,null,null,"Grafite (natural)",null,null,null,"Tântalo"]
[null,null,null,null,null,null,null,null,null,null,null,"Couro",null,null,null,"Estanho"]
[null,null,null,null,null,null,null,null,null,null,null,"Lítio",null,null,null,"Tungstênio"]
[null,null,null,null,null,null,null,null,null,null,null,"Mica",null,null,null,"Zinco"]
[null,null,null,null,null,null,null,null,null,null,null,null,null,null,null,"Nenhum",null,null,null,false]
[]
[null,null,null,null,null,null,null,null,null,null,null,"16a. Se alguma matéria-prima da lista acima foi selecionada, sua empresa conta com uma política sobre compra responsável dessas matérias-primas? "]
[null,null,null,null,null,null,null,null,null,null,null,false,"Sim",null,null,null,null,null,null,false]
[null,null,null,null,null,null,null,null,null,null,null,false,"Não",null,null,null,null,null,null,false]
[]
[null,null,null,null,null,null,null,null,null,null,null,"16b. Se tântalo, estanho, tungstênio ou outro for selecionado, sua empresa tem um Modelo de Relatório de Materiais de Conflito (CMRT) do escopo da empresa?"]
["No",null,null,null,null,null,null,null,null,null,null,false,"Sim ",null,null,null,null,null,null,false]
["Yes ","Please complete and upload CMRT template, using the latest version from the Conflict Free Sourcing Initiative (CFSI) website",null,null,null,null,null,null,null,null,null,null,"Não",null,null,null,null,null,null,false]
[]
[null,null,null,null,null,null,null,null,null,null,null,"16c. Se cobalto for selecionado, sua empresa tem um Modelo de Relatório de Cobalto (CRT) do escopo da empresa?"]
[null,null,null,null,null,null,null,null,null,null,null,false,"Sim ",null,null,null,null,null,null,false]
[null,null,null,null,null,null,null,null,null,null,null,null,"Não",null,null,null,null,null,null,false]
[]
[null,null,null,null,null,null,null,null,null,null,"H. INFORMAÇÕES ADICIONAIS"]
[null,null,null,null,null,null,null,null,null,null,"17. Use o espaço abaixo para fornecer informações adicionais (p.ex., comentários sobre política, tempo para certificação, etc.)."]
[]
[null,null,null,null,null,null,null,null,null,null,"SUA PONTUAÇÃO NO SAQ",null,null,null,null,null,null,null,null,{"$f":"Scoring!K151","v":0},"Para informações sobre a metodologia de pontuação no SAQ, consulte a Communication to Suppliers on the Launch of SAQ 4.0 (disponível em: https://www.drivesustainability.org/wp-content/uploads/2020/06/Communication-to-suppliers-on-the-launch-of-SAQ-4.0.pdf)"]
[]
[]
[]
[null,null,null,null,null,null,null,null,null,null,"Drive Sustainability — The Automotive Partnership"]
[null,null,null,null,null,null,null,null,null,null,"O BMW Group, Daimler AG, Ford, Honda, Jaguar Land Rover, Opel/ Vauxhall, Scania CV AB, Toyota Motor Europe, Volkswagen Group, Volvo Cars e Volvo Group uniram forças para lançar a ‘DRIVE Sustainability - The Automotive Partnership’.\n\nA parceria, facilitada pela CSR Europe, visa a impulsionar a sustentabilidade em toda a cadeia de suprimentos automotiva, promovendo uma abordagem comum dentro da indústria e integrando a sustentabilidade no processo geral de compras. É de grande importância para esses 10 fabricantes automotivos responsáveis que as pessoas que fabricam veículos, componentes ou prestam serviços tenham condições dignas de trabalho e sejam tratadas com dignidade e respeito, minimizando o impacto ambiental da indústria e promovendo a integridade nos negócios.\n\nA parceria tem como base o trabalho anterior realizado pelo \"The European Automotive Working Group on Supply Chain Sustainability\", com a ambição de evoluir de um grupo de empresas trabalhando juntas para uma iniciativa de liderança na indústria, buscando abordagens inovadoras e impactantes para melhorar a sustentabilidade da cadeia de suprimentos.\n\nA Drive Sustainability opera sob rígidas políticas antitruste."]
[null,null,null,null,null,null,null,null,null,null,"Sobre a CSR Europe"]
[null,null,null,null,null,null,null,null,null,null,"A CSR Europe é a principal rede empresarial europeia de responsabilidade social corporativa. Representando 48 membros corporativos e 42 organizações nacionais de RSC, ela é uma plataforma que ampara mais de 0.000 empresas de diferentes setores industriais para promover uma contribuição positiva para a sociedade."]
[null,null,null,null,null,null,null,null,null,null,"O questionário de autoavaliação pode ser usado sob os seguintes termos:"]
[null,null,null,null,null,null,null,null,null,null,"Você pode: Compartilhar — Copie e redistribua o material em qualquer mídia ou formato. O licenciante não pode revogar essas liberdades contanto que você esteja seguindo os termos da licença. \n\nSob os seguintes termos: Atribuição — Você deve dar o crédito apropriado, fornecer um link para a licença e indicar se foram feitas alterações. Você pode fazê-lo de qualquer maneira razoável, mas de nenhuma maneira que sugira que o licenciante o endossa você ou endossa o seu uso. \n\nNão comercial — Você não pode usar o material para fins comerciais. \n\nSem derivados — Se você mesclar, transformar ou usar o material como base, você não poderá distribuir o material modificado. \n\nSem restrições adicionais — Você não pode aplicar termos legais ou medidas tecnológicas que restrinjam legalmente outras pessoas de fazer qualquer coisa que a licença permita. \n\nAvisos: Você não precisa cumprir a licença para elementos do material em domínio público ou onde seu uso é permitido por uma exceção ou limitação aplicável. Nenhuma garantia é fornecida. A licença pode não lhe dar todas as permissões necessárias para o uso pretendido. Por exemplo, outros direitos, como publicidade, privacidade ou direitos morais, podem limitar o uso do material."]

{"sheet":"Scoring","index":1,"n_rows":151,"n_cols":21,"rows_kept":151,"cut":false,"hidden":true,"merged":[[138,3,138,4],[139,1,147,1],[139,2,147,2],[139,3,140,3],[139,9,147,9],[141,3,142,3],[143,3,144,3],[145,3,146,3],[147,3,147,4],[108,1,138,1],[108,2,138,2],[108,3,109,3],[108,9,138,9],[110,3,128,3],[129,3,133,3],[134,3,137,3],[108,8,138,8],[139,8,147,8],[102,3,102,4],[103,1,107,1],[103,2,107,2],[103,3,104,3],[103,9,107,9],[105,3,106,3],[98,8,102,8],[103,8,107,8],[2,10,8,10],[2,8,8,8],[9,8,16,8],[9,10,16,10],[107,3,107,4],[98,1,102,1],[98,2,102,2],[98,3,101,3],[91,3,94,3],[91,9,97,9],[95,3,96,3],[97,3,97,4],[78,3,78,4],[79,1,90,1],[79,2,90,2],[79,3,80,3],[81,3,86,3],[87,3,89,3],[90,3,90,4],[91,1,97,1],[91,2,97,2],[79,8,90,8],[91,8,97,8],[58,3,61,3],[58,9,62,9],[62,3,62,4],[63,1,78,1],[63,2,78,2],[63,3,64,3],[63,9,78,9],[65,3,74,3],[75,3,77,3],[58,1,62,1],[58,2,62,2],[58,8,62,8],[63,8,78,8],[47,3,52,3],[53,3,55,3],[56,3,56,4],[57,3,57,4],[39,3,39,4],[40,1,44,1],[40,2,44,2],[40,3,43,3],[40,9,44,9],[44,3,44,4],[45,1,57,1],[45,2,57,2],[45,3,46,3],[40,8,44,8],[45,8,57,8],[23,1,26,1],[23,2,26,2],[23,3,25,3],[23,9,26,9],[26,3,26,4],[27,1,39,1],[27,2,39,2],[27,3,28,3],[27,9,39,9],[29,3,34,3],[35,3,37,3],[38,3,38,4],[23,8,26,8],[27,8,39,8],[17,1,22,1],[17,2,22,2],[17,3,18,3],[17,9,22,9],[19,3,21,3],[22,3,22,4],[2,9,8,9],[4,3,5,3],[6,3,7,3],[8,3,8,4],[9,1,16,1],[9,2,16,2],[9,3,11,3],[9,9,16,9],[12,3,14,3],[15,3,15,4],[16,3,16,4],[2,1,8,1],[2,2,8,2],[2,3,3,3],[17,8,22,8],[98,10,102,10],[103,10,107,10],[108,10,138,10],[139,10,147,10],[45,9,57,9],[98,9,102,9],[17,10,22,10],[23,10,26,10],[27,10,39,10],[40,10,44,10],[45,10,57,10],[58,10,62,10],[63,10,78,10],[79,10,90,10],[91,10,97,10],[79,9,90,9]]}
[null,"SAQ 4.0 Scoring System"]
[null,"Indicator","Priority category","Question","Answers","Answers ","Answer scores","Score","Pre score","k*","Score",null,"*Calculation of k"]
[null,"Responsible management person","Low","1a. Does your company have a Social Sustainability responsible management person?*","Yes",{"$f":"'SAQ 4.0'!T38","v":false},{"$f":"IF(F3,1,0)","v":0},0.33,{"$f":"SUMPRODUCT(G3:G8,H3:H8)","v":0},{"$f":"N7","v":3.7499999999999999E-2},{"$f":"I3*J3","v":0},null,"Priority category","Low","Medium","High"]
[null,null,null,null,"No",{"$f":"'SAQ 4.0'!T39","v":false},{"$f":"IF(F4,1,0)","v":0},0,null,null,null,null,"Number of indicators",4,6,5]
[null,null,null,"1b.  Does your company have a Compliance  responsible management person?*","Yes",{"$f":"'SAQ 4.0'!T44","v":false},0,0.33,null,null,null,null,"List of indicators","- Energy management system\n- Grievance mechanism\n- Responsible management person for social, compliance, and environmental issues\n- CSR/Sustainability report","- Policy on working conditions and human rights\n- Policy on responsible sourcing of raw materials\n- Policy on health & safety\n- Policy on environment - Policy on business ethics\n- Procedures to manage substances with restrictions","- CSR/Sustainability requirements towards suppliers\n- Environmental management system\n- Code of Conduct\n- management system for working conditions and human rights\n- Management system for health and safety"]
[null,null,null,null,"No",{"$f":"'SAQ 4.0'!T45","v":false},0,0,null,null,null,null,"Priority %",0.15,0.35,0.5]
[null,null,null,"1c. Does your company have an Environmental Sustainability  responsible management person?*","Yes",{"$f":"'SAQ 4.0'!T50","v":false},0,0.33,null,null,null,null,"k = priority % / number of indicators",{"$f":"N6/N4","v":3.7499999999999999E-2},{"$f":"O6/O4","v":5.8333333333333327E-2},0.1]
[null,null,null,null,"No",{"$f":"'SAQ 4.0'!T51","v":false},0,0,null,null,null,null,null,null,null,null,null,null,"Criteria","actual","maximum"]
[null,null,null,"Max score for indicator",null,null,{"$f":"SUM(G3:G8)","v":0},{"$f":"SUM(H3:H8)","v":0.99},null,null,null,null,null,null,null,null,null,null,"Responsible management person",{"$f":"K3","v":0}]
[null,"CSR/Sustainability report","Low","2. Does your company publish a CSR/Sustainability Report?","Yes, according to GRI or other globally accepted standards",{"$f":"'SAQ 4.0'!T58","v":false},{"$f":"IF(F10,1,0)","v":0},0.8,{"$f":"SUMPRODUCT(G10:G15,H10:H15)","v":0},{"$f":"N7","v":3.7499999999999999E-2},{"$f":"I10*J10","v":0},null,null,null,null,null,null,null,"CSR/Sustainability report",{"$f":"K10","v":0}]
[null,null,null,null,"Yes, but not according to globally accepted standards ",{"$f":"'SAQ 4.0'!T59","v":false},0,0.4,null,null,null,null,null,null,null,null,null,null,"Code of Conduct",{"$f":"K18","v":0}]
[null,null,null,null,"No",{"$f":"'SAQ 4.0'!T60","v":false},0,0,null,null,null,null,null,null,null,null,null,null,"Grievance mechanism",{"$f":"K24","v":0}]
[null,null,null,"2a. Is your most recent report assured by a third party?","Yes, the assurance letter is included in the report",{"$f":"'SAQ 4.0'!T63","v":false},0,0.2,null,null,null,null,null,null,null,null,null,null,"Policy on working conditions and human rights",{"$f":"K28","v":0}]
[null,null,null,null,"Yes, but the assurance letter is not included in the report",{"$f":"'SAQ 4.0'!T64","v":false},0,0.2,null,null,null,null,null,null,null,null,null,null,"Management system for working conditions and human rights",{"$f":"K41","v":0}]
[null,null,null,null,"No",{"$f":"'SAQ 4.0'!T65","v":false},0,0,null,null,null,null,null,null,null,null,null,null,"Policy on helath & safety",{"$f":"K46","v":0}]
[null,null,null,"Max score for question",null,null,0,0.2,null,null,null,null,null,null,null,null,null,null,"Management system for health and safety",{"$f":"K59","v":0}]
[null,null,null,"Max score for indicator",null,null,1,1,null,null,null,null,null,null,null,null,null,null,"Policy on business ethics",{"$f":"K64","v":0}]
[null,"Code of Conduct","High","3. Does your company have a Code of Conduct?","Yes",{"$f":"'SAQ 4.0'!T68","v":false},0,0.6,{"$f":"SUMPRODUCT(G18:G22,H18:H22)","v":0},{"$f":"P7","v":0.1},{"$f":"I18*J18","v":0},null,null,null,null,null,null,null,"Policy on environment",{"$f":"K80","v":0}]
[null,null,null,null,"No",{"$f":"'SAQ 4.0'!T69","v":false},0,0,null,null,null,null,null,null,null,null,null,null,"Environmental management system",{"$f":"K92","v":0}]
[null,null,null,"3a. If answered \"Yes\" to Q3, do you organise training for your employees on the Code of Conduct?","Yes",{"$f":"'SAQ 4.0'!T72","v":false},0,0.4,null,null,null,null,null,null,null,null,null,null,"Energy management system",{"$f":"K99","v":0}]
[null,null,null,null,"No, but we communicate the Code of Conduct through extranet/brochures, etc.",{"$f":"'SAQ 4.0'!T73","v":false},0,0.2,null,null,null,null,null,null,null,null,null,null,"Procedures to manage substances with restrictions",{"$f":"K104","v":0}]
[null,null,null,null,"No",{"$f":"'SAQ 4.0'!T74","v":false},0,0,null,null,null,null,null,null,null,null,null,null,"CSR/Sustainability requirements towards suppliers",{"$f":"K109","v":0}]
[null,null,null,"Max score for indicator",null,null,0,1,null,null,null,null,null,null,null,null,null,null,"Policy on responsible sourcing of raw materials",{"$f":"K140","v":0}]
[null,"Grievance mechanism","Low","4. Does your company provide an operational-level grievance mechanism (OLGM) through which impacted stakeholders and rightsholders can raise complaints and seek to have them addressed with the enterprise? ","Yes, we have an internal grievance mechanism, which is available for the employees of our company, only ",{"$f":"'SAQ 4.0'!T77","v":false},0,0.5,{"$f":"SUMPRODUCT(G24:G26,H24:H26)","v":0},{"$f":"N7","v":3.7499999999999999E-2},{"$f":"I24*J24","v":0}]
[null,null,null,null,"Yes, we have a grievance mechanism, which is available for our employees as well as for external stakeholders (e.g. suppliers, communities) and our whole supply chain",{"$f":"'SAQ 4.0'!T78","v":false},0,1]
[null,null,null,null,"No",{"$f":"'SAQ 4.0'!T79","v":false},0,0]
[null,null,null,"Max score for indicator",null,null,0,1]
[null,"Policy on working conditions and human rights","Medium","5. Does your company have a formal policy regarding working conditions & human rights?","Yes",{"$f":"'SAQ 4.0'!T83","v":false},0,0,{"$f":"SUMPRODUCT(G28:G38,H28:H38)","v":0},{"$f":"O7","v":5.8333333333333327E-2},{"$f":"J28*I28","v":0}]
[null,null,null,null,"No",{"$f":"'SAQ 4.0'!T84","v":false},0,0]
[null,null,null,"5a. If answered \"Yes\" to Q5, which of the following areas are covered by this policy or the related processes and procedures?","Child labour and Young Workers",{"$f":"'SAQ 4.0'!T87","v":false},0,0.1]
[null,null,null,null,"Wages and Benefits",{"$f":"'SAQ 4.0'!T88","v":false},0,0.1]
[null,null,null,null,"Working hours",{"$f":"'SAQ 4.0'!T89","v":false},0,0.1]
[null,null,null,null,"Forced or compulsory labour and human trafficking including modern slavery",{"$f":"'SAQ 4.0'!T90","v":false},0,0.1]
[null,null,null,null,"Freedom of association and collective bargaining",{"$f":"'SAQ 4.0'!T91","v":false},0,0.1]
[null,null,null,null,"Harassment and non-discrimination",{"$f":"'SAQ 4.0'!T92","v":false},0,0.1]
[null,null,null,"5b. If answered \"Yes\" to Q5, do you organize training for your employees on this policy?","Yes",{"$f":"'SAQ 4.0'!T95","v":false},0,0.4]
[null,null,null,null,"No, but we communicate it through Intranet/ Brochures, etc.",{"$f":"'SAQ 4.0'!T96","v":false},0,0.2]
[null,null,null,null,"No",{"$f":"'SAQ 4.0'!T97","v":false},0,0]
[null,null,null,"Max score for question",null,null,0,0.4]
[null,null,null,"Max score for indicator",null,null,0,1]
[null,"Management system for working conditions and human rights","High","6. Does this site have a management system in place to manage the above mentioned working conditions and human rights issues?","Yes, we have an internationally recognised certified management system",{"$f":"'SAQ 4.0'!T100","v":false},0,1,{"$f":"SUMPRODUCT(G41:G44,H41:H44)","v":0},{"$f":"P7","v":0.1},{"$f":"I41*J41","v":0}]
[null,null,null,null,"Yes, we have a nationally recognised certified management system",{"$f":"'SAQ 4.0'!T105","v":false},0,0.75]
[null,null,null,null,"Yes, but the system is not certified",{"$f":"'SAQ 4.0'!T110","v":false},0,0.5]
[null,null,null,null,"No",{"$f":"'SAQ 4.0'!T111","v":false},0,0]
[null,null,null,"Max score for indicator",null,null,0,1]
[null,"Policy on helath & safety","Medium","7. Does your company have a formal health & safety policy in place?","Yes",{"$f":"'SAQ 4.0'!T115","v":false},0,0,{"$f":"SUMPRODUCT(G46:G56,H46:H56)","v":0},{"$f":"O7","v":5.8333333333333327E-2},{"$f":"I46*J46","v":0}]
[null,null,null,null,"No",{"$f":"'SAQ 4.0'!T116","v":false},0,0]
[null,null,null,"7a. If answered \"Yes\" to Q7, which of the following areas are covered by this policy or the related processes and procedures?","Personal Protective Equipment",{"$f":"'SAQ 4.0'!T119","v":false},0,0.1]
[null,null,null,null,"Machine Safety",{"$f":"'SAQ 4.0'!T120","v":false},0,0.1]
[null,null,null,null,"Emergency Preparedness",{"$f":"'SAQ 4.0'!T121","v":false},0,0.1]
[null,null,null,null,"Incident and Accident Management",{"$f":"'SAQ 4.0'!T122","v":false},0,0.1]
[null,null,null,null,"Workplace Ergonomics",{"$f":"'SAQ 4.0'!T123","v":false},0,0.1]
[null,null,null,null,"Handling of chemicals",{"$f":"'SAQ 4.0'!T124","v":false},0,0.1]
[null,null,null,"7b. If answered \"Yes\" to Q7, do you organize training for your employees on this policy?","Yes",{"$f":"'SAQ 4.0'!T128","v":false},0,0.4]
[null,null,null,null,"No, but we communicate it through Intranet/ Brochures, etc.",{"$f":"'SAQ 4.0'!T129","v":false},0,0.2]
[null,null,null,null,"No",{"$f":"'SAQ 4.0'!T130","v":false},0,0]
[null,null,null,"Max score for question",null,null,0,0.4]
[null,null,null,"Max score for indicator",null,null,0,1]
[null,"Management system for health and safety","High","8. Does this site have a health and safety management system in place?","Yes, we have an internationally recognised certified management system",{"$f":"'SAQ 4.0'!T133","v":false},0,1,{"$f":"SUMPRODUCT(G59:G62,H59:H62)","v":0},{"$f":"P7","v":0.1},{"$f":"I59*J59","v":0}]
[null,null,null,null,"Yes, we have a nationally recognised certified management system",{"$f":"'SAQ 4.0'!T138","v":false},0,0.75]
[null,null,null,null,"Yes, but the system is not certified",{"$f":"'SAQ 4.0'!T143","v":false},0,0.5]
[null,null,null,null,"No",{"$f":"'SAQ 4.0'!T144","v":false},0,0]
[null,null,null,"Max score for indicator",null,null,0,1]
[null,"Policy on business ethics","Medium","9. Does your company have a formal policy in place regarding business ethics?","Yes",{"$f":"'SAQ 4.0'!T148","v":false},0,0,{"$f":"SUMPRODUCT(G64:G78,H64:H78)","v":0},{"$f":"O7","v":5.8333333333333327E-2},{"$f":"I64*J64","v":0}]
[null,null,null,null,"No",{"$f":"'SAQ 4.0'!T149","v":false},0,0]
[null,null,null,"9a. If answered \"Yes\" to Q9, which of the following areas are covered by this policy?","Corruption, extortion and bribery",{"$f":"'SAQ 4.0'!T152","v":false},0,0.06]
[null,null,null,null,"Privacy",{"$f":"'SAQ 4.0'!T153","v":false},0,0.06]
[null,null,null,null,"Financial responsibility (Accurate Records)",{"$f":"'SAQ 4.0'!T154","v":false},0,0.06]
[null,null,null,null,"Disclosure of Information",{"$f":"'SAQ 4.0'!T155","v":false},{"$f":"IF(F69,1,0)","v":0},0.06]
[null,null,null,null,"Fair competition and anti-trust",{"$f":"'SAQ 4.0'!T156","v":false},0,0.06]
[null,null,null,null,"Conflicts of interest",{"$f":"'SAQ 4.0'!T157","v":false},0,0.06]
[null,null,null,null,"Counterfeit parts",{"$f":"'SAQ 4.0'!T158","v":false},0,0.06]
[null,null,null,null,"Intellectual property",{"$f":"'SAQ 4.0'!T159","v":false},0,0.06]
[null,null,null,null,"Export controls and economic sanctions",{"$f":"'SAQ 4.0'!T160","v":false},0,0.06]
[null,null,null,null,"Whistleblowing and protection against retaliation",{"$f":"'SAQ 4.0'!T161","v":false},0,0.06]
[null,null,null,"9b. If answered \"Yes\" to Q11, do you organize training for your employees on this policy?","Yes",{"$f":"'SAQ 4.0'!T164","v":false},0,0.4]
[null,null,null,null,"No, but we communicate it through Intranet/ Brochures, etc.",{"$f":"'SAQ 4.0'!T165","v":false},0,0.2]
[null,null,null,null,"No",{"$f":"'SAQ 4.0'!T166","v":false},0,0]
[null,null,null,"Max score for indicator",null,null,0,1]
[null,"Policy on environment","Medium","10. Does your company have a formal environmental policy in place?","Yes",{"$f":"'SAQ 4.0'!T176","v":false},0,0,{"$f":"SUMPRODUCT(G80:G90,H80:H90)","v":0},{"$f":"O7","v":5.8333333333333327E-2},{"$f":"I80*J80","v":0}]
[null,null,null,null,"No",{"$f":"'SAQ 4.0'!T177","v":false},0,0]
[null,null,null,"10a. If answered \"Yes\" to Q10, which of the following areas are covered by this policy?","GHG emissions, energy efficiency and renewables",{"$f":"'SAQ 4.0'!T180","v":false},0,0.12]
[null,null,null,null,"Water quality and consumption",{"$f":"'SAQ 4.0'!T181","v":false},0,0.12]
[null,null,null,null,"Air quality",{"$f":"'SAQ 4.0'!T182","v":false},0,0.12]
[null,null,null,null,"Sustainable Resources Management and Waste Reduction",{"$f":"'SAQ 4.0'!T183","v":false},0,0.12]
[null,null,null,null,"Responsible Chemical Management",{"$f":"'SAQ 4.0'!T184","v":false},0,0.12]
[null,null,null,null,"Other areas (please specify)",{"$f":"'SAQ 4.0'!T185","v":false},0,0]
[null,null,null,"10b. If answered \"Yes\" to Q13, do you organize training for your employees on this policy?","Yes",{"$f":"'SAQ 4.0'!T188","v":false},0,0.4]
[null,null,null,null,"No, but we communicate it through Intranet/ Brochures, etc.",{"$f":"'SAQ 4.0'!T189","v":false},0,0.2]
[null,null,null,null,"No",{"$f":"'SAQ 4.0'!T190","v":false},0,0]
[null,null,null,"Max score for indicator",null,null,0,1]
[null,"Environmental management system","High","11. Does this site have an  environmental management system in place?","Yes, we have an internationally recognised certified management system",{"$f":"'SAQ 4.0'!T193","v":false},0,0.8,{"$f":"SUMPRODUCT(G92:G97,H92:H97)","v":0},{"$f":"P7","v":0.1},{"$f":"I92*J92","v":0}]
[null,null,null,null,"Yes, we have a nationally recognised certified management system",{"$f":"'SAQ 4.0'!T198","v":false},0,0.6]
[null,null,null,null,"Yes, but the system is not certified",{"$f":"'SAQ 4.0'!T203","v":false},0,0.4]
[null,null,null,null,"No",{"$f":"'SAQ 4.0'!T204","v":false},0,0]
[null,null,null,"11a Does the site have an environmental program including targets, activities, and performance monitoring to continuously improve its environmental performance?","Yes",{"$f":"'SAQ 4.0'!T207","v":false},0,0.2]
[null,null,null,null,"No",{"$f":"'SAQ 4.0'!T208","v":false},0,0]
[null,null,null,"Max score for indicator",null,null,0,1]
[null,"Energy management system","Low","12. Does this site have an energy management system?","Yes, we have an internationally recognised certified management system",{"$f":"'SAQ 4.0'!T211","v":false},0,1,{"$f":"SUMPRODUCT(G99:G102,H99:H102)","v":0},{"$f":"N7","v":3.7499999999999999E-2},{"$f":"I99*J99","v":0}]
[null,null,null,null,"Yes, we have a nationally recognised certified management system",{"$f":"'SAQ 4.0'!T216","v":false},0,0.75]
[null,null,null,null,"Yes, but the system is not certified",{"$f":"'SAQ 4.0'!T221","v":false},0,0.5]
[null,null,null,null,"No",{"$f":"'SAQ 4.0'!T222","v":false},0,0]
[null,null,null,"Max score for indicator",null,null,0,1]
[null,"Procedures to manage substances with restrictions","Medium","13. Does this site use any substances with restrictions in production or operations?","Yes",{"$f":"'SAQ 4.0'!T236","v":false},0,0,{"$f":"SUMPRODUCT(G104:G107,H104:H107)","v":0},{"$f":"O7","v":5.8333333333333327E-2},{"$f":"I104*J104","v":0}]
[null,null,null,null,"No",{"$f":"'SAQ 4.0'!T237","v":false},0,1]
[null,null,null,"13a. If answered \"Yes\" to Q13, does this site have written procedures to manage substances with restrictions?","Yes",{"$f":"'SAQ 4.0'!T240","v":false},0,1]
[null,null,null,null,"No",{"$f":"'SAQ 4.0'!T241","v":false},0,0]
[null,null,null,"Max score for indicator",null,null,0,1]
[null,"CSR/Sustainability requirements towards suppliers","High","15. Does your company have set CSR/Sustainability Requirements towards suppliers?","Yes",{"$f":"'SAQ 4.0'!T257","v":false},0,0,{"$f":"SUMPRODUCT(G109:G138,H109:H138)","v":0},{"$f":"P7","v":0.1},{"$f":"I109*J109","v":0}]
[null,null,null,null,"No",{"$f":"'SAQ 4.0'!T258","v":false},0,0]
[null,null,null,null,"Child labour and Young Workers",{"$f":"'SAQ 4.0'!T262","v":false},0,1.7000000000000001E-2]
[null,null,null,null,"Wages and Benefits",{"$f":"'SAQ 4.0'!T263","v":false},0,1.7000000000000001E-2]
[null,null,null,null,"Working hours",{"$f":"'SAQ 4.0'!T264","v":false},0,1.7000000000000001E-2]
[null,null,null,null,"Forced or compulsory labour and human trafficking including modern slavery",{"$f":"'SAQ 4.0'!T265","v":false},0,1.7000000000000001E-2]
[null,null,null,null,"Freedom of association, incl. collective bargaining",{"$f":"'SAQ 4.0'!T266","v":false},0,1.7000000000000001E-2]
[null,null,null,null,"Harassment and non-discrimination",{"$f":"'SAQ 4.0'!T267","v":false},0,1.7000000000000001E-2]
[null,null,null,null,"Health and Safety",{"$f":"'SAQ 4.0'!T270","v":false},0,0.1]
[null,null,null,null,"Corruption, extortion and bribery",{"$f":"'SAQ 4.0'!T273","v":false},0,0.02]
[null,null,null,null,"Privacy and data protection",{"$f":"'SAQ 4.0'!T274","v":false},0,0.02]
[null,null,null,null,"Fair competition and anti-trust",{"$f":"'SAQ 4.0'!T275","v":false},0,0.02]
[null,null,null,null,"Conflicts of interest",{"$f":"'SAQ 4.0'!T276","v":false},0,0.02]
[null,null,null,null,"Whistleblowing and protection against retaliation",{"$f":"'SAQ 4.0'!T277","v":false},0,0.02]
[null,null,null,null,"GHG emissions, energy efficiency and renewables",{"$f":"'SAQ 4.0'!T280","v":false},{"$f":"IF(F123,1,0)","v":0},1.7000000000000001E-2]
[null,null,null,null,"Water quality and consumption",{"$f":"'SAQ 4.0'!T281","v":false},0,1.7000000000000001E-2]
[null,null,null,null,"Air quality",{"$f":"'SAQ 4.0'!T282","v":false},0,1.7000000000000001E-2]
[null,null,null,null,"Sustainable Resources Management and Waste Reduction",{"$f":"'SAQ 4.0'!T283","v":false},0,1.7000000000000001E-2]
[null,null,null,null,"Responsible Chemical Management",{"$f":"'SAQ 4.0'!T284","v":false},0,1.7000000000000001E-2]
[null,null,null,null,"Other areas (please specify)",{"$f":"'SAQ 4.0'!T285","v":false},0,1.7000000000000001E-2]
[null,null,null,null,"Upstream Supplier Management",{"$f":"'SAQ 4.0'!T288","v":false},0,0.1]
[null,null,null,"15b. If answered \"Yes\" to Q16, does your company use any of the following channels to communicate its Supplier CSR/Sustainability Requirements to your suppliers?","Included in Terms & Conditions",{"$f":"'SAQ 4.0'!T291","v":false},0,0.1]
[null,null,null,null,"Supplier Training",{"$f":"'SAQ 4.0'!T292","v":false},0,7.0000000000000007E-2]
[null,null,null,null,"Supplier Code of Conduct/ Supplier Sustainability Policy",{"$f":"'SAQ 4.0'!T293","v":false},0,0.05]
[null,null,null,null,"Company website/ Supplier Portal",{"$f":"'SAQ 4.0'!T294","v":false},0,0.03]
[null,null,null,null,"None",{"$f":"'SAQ 4.0'!T295","v":false},0,0]
[null,null,null,"15c Which processes does your company have in place to review if your suppliers fulfil your requirements?","2nd party audits conducted by the company",{"$f":"'SAQ 4.0'!T298","v":false},0,0.1]
[null,null,null,null,"3rd party audits conducted by an accredited certification body",{"$f":"'SAQ 4.0'!T299","v":false},0,0.1]
[null,null,null,null,"Self-assessment questionnaire",{"$f":"'SAQ 4.0'!T300","v":false},0,0.05]
[null,null,null,null,"None",{"$f":"'SAQ 4.0'!T301","v":false},0,0]
[null,null,null,"Max score for indicator",null,null,0,1]
[null,"Policy on responsible sourcing of raw materials","Medium","16. Are any of the following materials contained in your products? (Tick all that apply)","Yes",true,1,0,{"$f":"SUMPRODUCT(G140:G147,H140:H147)","v":0},{"$f":"O7","v":5.8333333333333327E-2},{"$f":"I140*J140","v":0}]
[null,null,null,null,"No",{"$f":"'SAQ 4.0'!T315","v":false},0,1]
[null,null,null,"16a. If any raw material from the list above selected, does your company have a policy on responsible sourcing of these raw materials? ","Yes",{"$f":"'SAQ 4.0'!T318","v":false},0,1]
[null,null,null,null,"No",{"$f":"'SAQ 4.0'!T319","v":false},0,0]
[null,null,null,"16b. If tantalum, tin, tungsten or gold are selected, do you have a company scope Conflcit Minerals Reporting Template (CMRT)?","Yes",{"$f":"'SAQ 4.0'!T322","v":false},0,0]
[null,null,null,null,"No",{"$f":"'SAQ 4.0'!T323","v":false},0,0]
[null,null,null,"16c. If cobalt is selected, do you have a Cobalt Reporting Template (CRT)?","Yes",{"$f":"'SAQ 4.0'!T326","v":false},0,0]
[null,null,null,null,"No",{"$f":"'SAQ 4.0'!T327","v":false},0,0]
[null,null,null,"Max score for indicator",null,null,0,1]
[]
[null,null,null,null,null,null,null,null,null,null,{"$f":"SUM(K3:K148)","v":0}]
[null,null,null,null,null,null,null,null,null,null,{"$f":"ROUND(K150,3)","v":0}]